BEGIN:VCALENDAR
VERSION:2.0
PRODID:-//Hermandad del Rocio de Huelva - ECPv6.15.17.1//NONSGML v1.0//EN
CALSCALE:GREGORIAN
METHOD:PUBLISH
X-ORIGINAL-URL:https://hermandaddelrociodehuelva.com
X-WR-CALDESC:Eventos para Hermandad del Rocio de Huelva
REFRESH-INTERVAL;VALUE=DURATION:PT1H
X-Robots-Tag:noindex
X-PUBLISHED-TTL:PT1H
BEGIN:VTIMEZONE
TZID:Europe/Madrid
BEGIN:DAYLIGHT
TZOFFSETFROM:+0100
TZOFFSETTO:+0200
TZNAME:CEST
DTSTART:20240331T010000
END:DAYLIGHT
BEGIN:STANDARD
TZOFFSETFROM:+0200
TZOFFSETTO:+0100
TZNAME:CET
DTSTART:20241027T010000
END:STANDARD
BEGIN:DAYLIGHT
TZOFFSETFROM:+0100
TZOFFSETTO:+0200
TZNAME:CEST
DTSTART:20250330T010000
END:DAYLIGHT
BEGIN:STANDARD
TZOFFSETFROM:+0200
TZOFFSETTO:+0100
TZNAME:CET
DTSTART:20251026T010000
END:STANDARD
BEGIN:DAYLIGHT
TZOFFSETFROM:+0100
TZOFFSETTO:+0200
TZNAME:CEST
DTSTART:20260329T010000
END:DAYLIGHT
BEGIN:STANDARD
TZOFFSETFROM:+0200
TZOFFSETTO:+0100
TZNAME:CET
DTSTART:20261025T010000
END:STANDARD
END:VTIMEZONE
BEGIN:VEVENT
DTSTART;TZID=Europe/Madrid:20250306T000000
DTEND;TZID=Europe/Madrid:20250306T000000
DTSTAMP:20260424T185820
CREATED:20250210T123755Z
LAST-MODIFIED:20250212T171817Z
UID:7550-1741219200-1741219200@hermandaddelrociodehuelva.com
SUMMARY:Rosario
DESCRIPTION:Rosarios semanales
URL:https://hermandaddelrociodehuelva.com/evento/rosario-5/
CATEGORIES:Rosario
END:VEVENT
BEGIN:VEVENT
DTSTART;TZID=Europe/Madrid:20250313T000000
DTEND;TZID=Europe/Madrid:20250313T000000
DTSTAMP:20260424T185820
CREATED:20250210T123756Z
LAST-MODIFIED:20250212T171816Z
UID:7551-1741824000-1741824000@hermandaddelrociodehuelva.com
SUMMARY:Rosario
DESCRIPTION:Rosarios semanales
URL:https://hermandaddelrociodehuelva.com/evento/rosario-6/
CATEGORIES:Rosario
END:VEVENT
BEGIN:VEVENT
DTSTART;TZID=Europe/Madrid:20250320T000000
DTEND;TZID=Europe/Madrid:20250320T000000
DTSTAMP:20260424T185820
CREATED:20250210T123956Z
LAST-MODIFIED:20250212T171816Z
UID:7553-1742428800-1742428800@hermandaddelrociodehuelva.com
SUMMARY:Rosario
DESCRIPTION:Rosarios semanales
URL:https://hermandaddelrociodehuelva.com/evento/rosario-7/
CATEGORIES:Rosario
END:VEVENT
BEGIN:VEVENT
DTSTART;TZID=Europe/Madrid:20250327T000000
DTEND;TZID=Europe/Madrid:20250327T000000
DTSTAMP:20260424T185820
CREATED:20250210T123957Z
LAST-MODIFIED:20250212T171816Z
UID:7554-1743033600-1743033600@hermandaddelrociodehuelva.com
SUMMARY:Rosario
DESCRIPTION:Rosarios semanales
URL:https://hermandaddelrociodehuelva.com/evento/rosario-8/
CATEGORIES:Rosario
END:VEVENT
END:VCALENDAR